BEGIN:VCALENDAR
VERSION:2.0
PRODID:-//Eglise Protestante Unie de Nîmes - ECPv6.4.0.1//NONSGML v1.0//EN
CALSCALE:GREGORIAN
METHOD:PUBLISH
X-WR-CALNAME:Eglise Protestante Unie de Nîmes
X-ORIGINAL-URL:https://nimes-eglise-protestante-unie.fr
X-WR-CALDESC:évènements pour Eglise Protestante Unie de Nîmes
REFRESH-INTERVAL;VALUE=DURATION:PT1H
X-Robots-Tag:noindex
X-PUBLISHED-TTL:PT1H
BEGIN:VTIMEZONE
TZID:Europe/Paris
BEGIN:DAYLIGHT
TZOFFSETFROM:+0100
TZOFFSETTO:+0200
TZNAME:CEST
DTSTART:20250330T010000
END:DAYLIGHT
BEGIN:STANDARD
TZOFFSETFROM:+0200
TZOFFSETTO:+0100
TZNAME:CET
DTSTART:20251026T010000
END:STANDARD
END:VTIMEZONE
BEGIN:VEVENT
DTSTART;TZID=Europe/Paris:20250810T103000
DTEND;TZID=Europe/Paris:20250810T113000
DTSTAMP:20260421T154057
CREATED:20250629T154206Z
LAST-MODIFIED:20250629T154206Z
UID:21581-1754821800-1754825400@nimes-eglise-protestante-unie.fr
SUMMARY:Culte au Grand Temple
DESCRIPTION:Culte présidé par le pasteur Franck Massler.
URL:https://nimes-eglise-protestante-unie.fr/event/culte-au-grand-temple-21/
LOCATION:Grand Temple\, 1 place du Grand Temple\, Nîmes\, 30000\, France
CATEGORIES:Cultes,Spiritualité
ATTACH;FMTTYPE=image/png:https://nimes-eglise-protestante-unie.fr/wp-content/uploads/2021/02/Grand-Temple-3.png
ORGANIZER;CN="Frank Massler":MAILTO:epu.fmassler@gmail.com
END:VEVENT
BEGIN:VEVENT
DTSTART;TZID=Europe/Paris:20250803T103000
DTEND;TZID=Europe/Paris:20250803T113000
DTSTAMP:20260421T154057
CREATED:20250629T154110Z
LAST-MODIFIED:20250629T154110Z
UID:21582-1754217000-1754220600@nimes-eglise-protestante-unie.fr
SUMMARY:Culte au Grand Temple
DESCRIPTION:Culte présidé par la pasteure Sophie Fantoni.
URL:https://nimes-eglise-protestante-unie.fr/event/culte-au-grand-temple-20/
LOCATION:Grand Temple\, 1 place du Grand Temple\, Nîmes\, 30000\, France
CATEGORIES:Cultes,Spiritualité
ATTACH;FMTTYPE=image/png:https://nimes-eglise-protestante-unie.fr/wp-content/uploads/2021/02/Grand-Temple-3.png
END:VEVENT
BEGIN:VEVENT
DTSTART;TZID=Europe/Paris:20250727T103000
DTEND;TZID=Europe/Paris:20250727T113000
DTSTAMP:20260421T154057
CREATED:20250629T154005Z
LAST-MODIFIED:20250629T154005Z
UID:21576-1753612200-1753615800@nimes-eglise-protestante-unie.fr
SUMMARY:Culte au Grand Temple
DESCRIPTION:Culte présidé par le pasteur Thierry Azémard.
URL:https://nimes-eglise-protestante-unie.fr/event/culte-au-grand-temple-19/
LOCATION:Grand Temple\, 1 place du Grand Temple\, Nîmes\, 30000\, France
CATEGORIES:Cultes,Spiritualité
ATTACH;FMTTYPE=image/png:https://nimes-eglise-protestante-unie.fr/wp-content/uploads/2021/02/Grand-Temple-3.png
END:VEVENT
BEGIN:VEVENT
DTSTART;TZID=Europe/Paris:20250720T103000
DTEND;TZID=Europe/Paris:20250720T113000
DTSTAMP:20260421T154057
CREATED:20250629T153907Z
LAST-MODIFIED:20250629T153907Z
UID:21575-1753007400-1753011000@nimes-eglise-protestante-unie.fr
SUMMARY:Culte au Grand Temple
DESCRIPTION:Culte présidé par le pasteur Christophe Amédro.
URL:https://nimes-eglise-protestante-unie.fr/event/culte-au-grand-temple-18/
LOCATION:Grand Temple\, 1 place du Grand Temple\, Nîmes\, 30000\, France
CATEGORIES:Cultes,Spiritualité
ATTACH;FMTTYPE=image/png:https://nimes-eglise-protestante-unie.fr/wp-content/uploads/2021/02/Grand-Temple-3.png
END:VEVENT
BEGIN:VEVENT
DTSTART;TZID=Europe/Paris:20250713T103000
DTEND;TZID=Europe/Paris:20250713T113000
DTSTAMP:20260421T154057
CREATED:20250629T153813Z
LAST-MODIFIED:20250629T153813Z
UID:21577-1752402600-1752406200@nimes-eglise-protestante-unie.fr
SUMMARY:Culte au Grand Temple
DESCRIPTION:Culte présidé par le pasteur Franck Massler.
URL:https://nimes-eglise-protestante-unie.fr/event/culte-au-grand-temple-17/
LOCATION:Grand Temple\, 1 place du Grand Temple\, Nîmes\, 30000\, France
CATEGORIES:Cultes,Spiritualité
ATTACH;FMTTYPE=image/png:https://nimes-eglise-protestante-unie.fr/wp-content/uploads/2021/02/Grand-Temple-3.png
ORGANIZER;CN="Frank Massler":MAILTO:epu.fmassler@gmail.com
END:VEVENT
BEGIN:VEVENT
DTSTART;TZID=Europe/Paris:20250706T103000
DTEND;TZID=Europe/Paris:20250706T113000
DTSTAMP:20260421T154057
CREATED:20250629T153707Z
LAST-MODIFIED:20250629T153707Z
UID:21578-1751797800-1751801400@nimes-eglise-protestante-unie.fr
SUMMARY:Culte au Grand Temple
DESCRIPTION:Culte présidé par la pasteure Iris Reuter.
URL:https://nimes-eglise-protestante-unie.fr/event/culte-au-grand-temple-16/
LOCATION:Grand Temple\, 1 place du Grand Temple\, Nîmes\, 30000\, France
CATEGORIES:Cultes
ATTACH;FMTTYPE=image/png:https://nimes-eglise-protestante-unie.fr/wp-content/uploads/2021/02/Grand-Temple-3.png
END:VEVENT
BEGIN:VEVENT
DTSTART;TZID=Europe/Paris:20250629T103000
DTEND;TZID=Europe/Paris:20250629T113000
DTSTAMP:20260421T154057
CREATED:20250501T210502Z
LAST-MODIFIED:20250501T210502Z
UID:21305-1751193000-1751196600@nimes-eglise-protestante-unie.fr
SUMMARY:Culte au temple de la Fraternité
DESCRIPTION:Culte présidé par la pasteure Iris Reuter.
URL:https://nimes-eglise-protestante-unie.fr/event/culte-au-temple-de-la-fraternite-14/
LOCATION:Temple de la Fraternité\, 7\, rue Antoine Delon\, Nîmes\, 30000\, France
CATEGORIES:Cultes,Spiritualité
ATTACH;FMTTYPE=image/jpeg:https://nimes-eglise-protestante-unie.fr/wp-content/uploads/2024/11/la-Frata-tous.jpg
END:VEVENT
BEGIN:VEVENT
DTSTART;TZID=Europe/Paris:20250629T103000
DTEND;TZID=Europe/Paris:20250629T113000
DTSTAMP:20260421T154057
CREATED:20250501T205021Z
LAST-MODIFIED:20250501T205021Z
UID:21296-1751193000-1751196600@nimes-eglise-protestante-unie.fr
SUMMARY:Culte au Grand Temple
DESCRIPTION:Culte présidé par le pasteur Thierry Azémarl.
URL:https://nimes-eglise-protestante-unie.fr/event/culte-au-grand-temple-15/
LOCATION:Grand Temple\, 1 place du Grand Temple\, Nîmes\, 30000\, France
CATEGORIES:Cultes,Spiritualité
ATTACH;FMTTYPE=image/png:https://nimes-eglise-protestante-unie.fr/wp-content/uploads/2021/02/Grand-Temple-3.png
END:VEVENT
BEGIN:VEVENT
DTSTART;TZID=Europe/Paris:20250628T180000
DTEND;TZID=Europe/Paris:20250628T190000
DTSTAMP:20260421T154057
CREATED:20250501T202338Z
LAST-MODIFIED:20250501T202338Z
UID:21279-1751133600-1751137200@nimes-eglise-protestante-unie.fr
SUMMARY:Culte festif de fin d'année au temple du Mas des Abeilles
DESCRIPTION:Culte célébré par la pasteure Titia Es-Sbanti.
URL:https://nimes-eglise-protestante-unie.fr/event/culte-festif-de-fin-dannee-au-temple-du-mas-des-abeilles/
LOCATION:Temple du Mas des abeilles\, 2135 chemin du Bachas\, Nîmes\, 30000\, France
CATEGORIES:Cultes,Spiritualité
ATTACH;FMTTYPE=image/jpeg:https://nimes-eglise-protestante-unie.fr/wp-content/uploads/2024/11/MdA-automne-16-9.jpg
END:VEVENT
BEGIN:VEVENT
DTSTART;TZID=Europe/Paris:20250615T103000
DTEND;TZID=Europe/Paris:20250615T113000
DTSTAMP:20260421T154057
CREATED:20250501T210357Z
LAST-MODIFIED:20250501T210357Z
UID:21304-1749983400-1749987000@nimes-eglise-protestante-unie.fr
SUMMARY:Culte au temple de la Fraternité
DESCRIPTION:Culte présidé par le pasteur Thierry Azémard.
URL:https://nimes-eglise-protestante-unie.fr/event/culte-au-temple-de-la-fraternite-13/
LOCATION:Temple de la Fraternité\, 7\, rue Antoine Delon\, Nîmes\, 30000\, France
CATEGORIES:Cultes,Spiritualité
ATTACH;FMTTYPE=image/jpeg:https://nimes-eglise-protestante-unie.fr/wp-content/uploads/2024/11/la-Frata-tous.jpg
END:VEVENT
BEGIN:VEVENT
DTSTART;TZID=Europe/Paris:20250615T103000
DTEND;TZID=Europe/Paris:20250615T113000
DTSTAMP:20260421T154057
CREATED:20250501T204916Z
LAST-MODIFIED:20250531T194659Z
UID:21295-1749983400-1749987000@nimes-eglise-protestante-unie.fr
SUMMARY:Culte des confirmations au Grand Temple
DESCRIPTION:Culte présidé par la pasteure Claire des Mesnards. \nLe culte sera suivi d’un verre de l’amitié en l’honneur de Claire dont c’est le dernier culte !
URL:https://nimes-eglise-protestante-unie.fr/event/culte-au-grand-temple-14/
LOCATION:Grand Temple\, 1 place du Grand Temple\, Nîmes\, 30000\, France
CATEGORIES:Cultes,Spiritualité
ATTACH;FMTTYPE=image/png:https://nimes-eglise-protestante-unie.fr/wp-content/uploads/2021/02/Grand-Temple-3.png
END:VEVENT
BEGIN:VEVENT
DTSTART;TZID=Europe/Paris:20250614T180000
DTEND;TZID=Europe/Paris:20250614T190000
DTSTAMP:20260421T154057
CREATED:20250501T202153Z
LAST-MODIFIED:20250501T202153Z
UID:21277-1749924000-1749927600@nimes-eglise-protestante-unie.fr
SUMMARY:Culte au temple du Mas des Abeilles
DESCRIPTION:Culte célébré par la pasteure Titia Es-Sbanti.
URL:https://nimes-eglise-protestante-unie.fr/event/culte-au-temple-du-mas-des-abeilles-4/
LOCATION:Temple du Mas des abeilles\, 2135 chemin du Bachas\, Nîmes\, 30000\, France
CATEGORIES:Cultes,Spiritualité
ATTACH;FMTTYPE=image/jpeg:https://nimes-eglise-protestante-unie.fr/wp-content/uploads/2024/11/MdA-automne-16-9.jpg
END:VEVENT
BEGIN:VEVENT
DTSTART;TZID=Europe/Paris:20250608T103000
DTEND;TZID=Europe/Paris:20250608T113000
DTSTAMP:20260421T154057
CREATED:20250501T203109Z
LAST-MODIFIED:20250531T193745Z
UID:21284-1749378600-1749382200@nimes-eglise-protestante-unie.fr
SUMMARY:Culte commun de Pentecôte au temple de Saint-Césaire
DESCRIPTION:Culte présidé par la pasteure Claire des Mesnards et accompagné par le groupe Mélonîmes.
URL:https://nimes-eglise-protestante-unie.fr/event/culte-commun-de-pentecote-au-temple-de-saint-cesaire/
LOCATION:Temple de Saint-Césaire\, 248 rue du temple\, Nîmes\, 30900\, France
CATEGORIES:Cultes,Cultes spéciaux,Spiritualité
ATTACH;FMTTYPE=image/jpeg:https://nimes-eglise-protestante-unie.fr/wp-content/uploads/2021/04/Paques-2021-SQt-CESAIRE-scaled-e1617650230277.jpg
END:VEVENT
BEGIN:VEVENT
DTSTART;TZID=Europe/Paris:20250601T103000
DTEND;TZID=Europe/Paris:20250601T113000
DTSTAMP:20260421T154057
CREATED:20250501T210154Z
LAST-MODIFIED:20250531T193810Z
UID:21303-1748773800-1748777400@nimes-eglise-protestante-unie.fr
SUMMARY:Culte au temple de la Fraternité
DESCRIPTION:Culte avec Sainte-Cène présidé par la pasteure Iris Reuter.
URL:https://nimes-eglise-protestante-unie.fr/event/culte-au-temple-de-la-fraternite-12/
LOCATION:Temple de la Fraternité\, 7\, rue Antoine Delon\, Nîmes\, 30000\, France
CATEGORIES:Cultes,Spiritualité
ATTACH;FMTTYPE=image/jpeg:https://nimes-eglise-protestante-unie.fr/wp-content/uploads/2024/11/la-Frata-tous.jpg
END:VEVENT
BEGIN:VEVENT
DTSTART;TZID=Europe/Paris:20250601T103000
DTEND;TZID=Europe/Paris:20250601T113000
DTSTAMP:20260421T154057
CREATED:20250501T204748Z
LAST-MODIFIED:20250531T193638Z
UID:21294-1748773800-1748777400@nimes-eglise-protestante-unie.fr
SUMMARY:Culte au Grand Temple
DESCRIPTION:Culte avec Sainte-Cène présidé par le pasteur Lionel Tambon.
URL:https://nimes-eglise-protestante-unie.fr/event/culte-au-grand-temple-13/
LOCATION:Grand Temple\, 1 place du Grand Temple\, Nîmes\, 30000\, France
CATEGORIES:Cultes,Spiritualité
ATTACH;FMTTYPE=image/png:https://nimes-eglise-protestante-unie.fr/wp-content/uploads/2021/02/Grand-Temple-3.png
END:VEVENT
BEGIN:VEVENT
DTSTART;TZID=Europe/Paris:20250525T103000
DTEND;TZID=Europe/Paris:20250525T113000
DTSTAMP:20260421T154057
CREATED:20250501T203613Z
LAST-MODIFIED:20250501T203613Z
UID:21286-1748169000-1748172600@nimes-eglise-protestante-unie.fr
SUMMARY:Culte commun de l'APA au temple de l'Oratoire
DESCRIPTION:Culte présidé par la pasteure Titia Es-Sbanti.
URL:https://nimes-eglise-protestante-unie.fr/event/culte-commun-de-lapa-au-temple-de-loratoire/
LOCATION:Temple de l’Oratoire\, 2 place de l'Oratoire\, Nîmes\, 30900\, France
CATEGORIES:Cultes,Cultes spéciaux,Spiritualité
ATTACH;FMTTYPE=image/jpeg:https://nimes-eglise-protestante-unie.fr/wp-content/uploads/2024/03/image.jpg
END:VEVENT
BEGIN:VEVENT
DTSTART;TZID=Europe/Paris:20250518T103000
DTEND;TZID=Europe/Paris:20250518T113000
DTSTAMP:20260421T154057
CREATED:20250501T210011Z
LAST-MODIFIED:20250501T210011Z
UID:21302-1747564200-1747567800@nimes-eglise-protestante-unie.fr
SUMMARY:Culte au temple de la Fraternité
DESCRIPTION:Culte présidé par la pasteure Iris Reuter.
URL:https://nimes-eglise-protestante-unie.fr/event/culte-au-temple-de-la-fraternite-11/
LOCATION:Temple de la Fraternité\, 7\, rue Antoine Delon\, Nîmes\, 30000\, France
CATEGORIES:Cultes,Spiritualité
ATTACH;FMTTYPE=image/jpeg:https://nimes-eglise-protestante-unie.fr/wp-content/uploads/2024/11/la-Frata-tous.jpg
END:VEVENT
BEGIN:VEVENT
DTSTART;TZID=Europe/Paris:20250518T103000
DTEND;TZID=Europe/Paris:20250518T113000
DTSTAMP:20260421T154057
CREATED:20250501T204646Z
LAST-MODIFIED:20250501T204646Z
UID:21293-1747564200-1747567800@nimes-eglise-protestante-unie.fr
SUMMARY:Culte au Grand Temple
DESCRIPTION:Culte présidé par la pasteure Claire des Mesnards.
URL:https://nimes-eglise-protestante-unie.fr/event/culte-au-grand-temple-12/
LOCATION:Grand Temple\, 1 place du Grand Temple\, Nîmes\, 30000\, France
CATEGORIES:Cultes,Spiritualité
ATTACH;FMTTYPE=image/png:https://nimes-eglise-protestante-unie.fr/wp-content/uploads/2021/02/Grand-Temple-3.png
END:VEVENT
BEGIN:VEVENT
DTSTART;TZID=Europe/Paris:20250517T180000
DTEND;TZID=Europe/Paris:20250517T190000
DTSTAMP:20260421T154057
CREATED:20250501T202033Z
LAST-MODIFIED:20250514T121311Z
UID:21278-1747504800-1747508400@nimes-eglise-protestante-unie.fr
SUMMARY:Culte KT au temple du Mas des Abeilles
DESCRIPTION:Culte célébré par la pasteure Titia Es-Sbanti. \nL’herbe est-elle plus verte ailleurs ? \nNous vous attendons\, tout de vert vêtu\, pour le culte et si le cœur vous en dit\, pour le repas qui suivra !
URL:https://nimes-eglise-protestante-unie.fr/event/culte-kt-au-temple-du-mas-des-abeilles/
LOCATION:Temple du Mas des abeilles\, 2135 chemin du Bachas\, Nîmes\, 30000\, France
CATEGORIES:Cultes,Spiritualité
ATTACH;FMTTYPE=image/jpeg:https://nimes-eglise-protestante-unie.fr/wp-content/uploads/2024/11/MdA-automne-16-9.jpg
END:VEVENT
BEGIN:VEVENT
DTSTART;TZID=Europe/Paris:20250517T170000
DTEND;TZID=Europe/Paris:20250517T180000
DTSTAMP:20260421T154057
CREATED:20250501T204037Z
LAST-MODIFIED:20250501T204037Z
UID:21291-1747501200-1747504800@nimes-eglise-protestante-unie.fr
SUMMARY:Culte KT à la Maison du protestantisme
DESCRIPTION:Culte célébré par la pasteure Claire des Mesnards.
URL:https://nimes-eglise-protestante-unie.fr/event/culte-kt-a-la-maison-du-protestantisme/
LOCATION:Carré protestant – Maison du protestantisme\, 3\, rue Claude Brousson\, Nîmes\, 30000\, France
CATEGORIES:Cultes,Spiritualité
ATTACH;FMTTYPE=image/png:https://nimes-eglise-protestante-unie.fr/wp-content/uploads/2020/09/Capture-décran-2020-09-22-à-12.30.17.png
END:VEVENT
BEGIN:VEVENT
DTSTART;TZID=Europe/Paris:20250511T103000
DTEND;TZID=Europe/Paris:20250511T113000
DTSTAMP:20260421T154057
CREATED:20250501T205827Z
LAST-MODIFIED:20250501T205827Z
UID:21301-1746959400-1746963000@nimes-eglise-protestante-unie.fr
SUMMARY:Culte au temple de la Fraternité
DESCRIPTION:Culte présidé par le pasteur Christophe Amédro.
URL:https://nimes-eglise-protestante-unie.fr/event/culte-au-temple-de-la-fraternite-10/
LOCATION:Temple de la Fraternité\, 7\, rue Antoine Delon\, Nîmes\, 30000\, France
CATEGORIES:Cultes,Spiritualité
ATTACH;FMTTYPE=image/jpeg:https://nimes-eglise-protestante-unie.fr/wp-content/uploads/2024/11/la-Frata-tous.jpg
END:VEVENT
BEGIN:VEVENT
DTSTART;TZID=Europe/Paris:20250511T103000
DTEND;TZID=Europe/Paris:20250511T113000
DTSTAMP:20260421T154057
CREATED:20250501T203333Z
LAST-MODIFIED:20250501T203635Z
UID:21287-1746959400-1746963000@nimes-eglise-protestante-unie.fr
SUMMARY:Culte au temple de l'Oratoire
DESCRIPTION:Culte célébré par la pasteure Claire des Mesnards.
URL:https://nimes-eglise-protestante-unie.fr/event/culte-au-temple-de-loratoire-2/
LOCATION:Temple de l’Oratoire\, 2 place de l'Oratoire\, Nîmes\, 30900\, France
CATEGORIES:Cultes,Spiritualité
ATTACH;FMTTYPE=image/jpeg:https://nimes-eglise-protestante-unie.fr/wp-content/uploads/2024/03/image.jpg
END:VEVENT
BEGIN:VEVENT
DTSTART;TZID=Europe/Paris:20250510T180000
DTEND;TZID=Europe/Paris:20250510T190000
DTSTAMP:20260421T154057
CREATED:20250501T201909Z
LAST-MODIFIED:20250501T201909Z
UID:21276-1746900000-1746903600@nimes-eglise-protestante-unie.fr
SUMMARY:Culte au temple du Mas des Abeilles
DESCRIPTION:Culte célébré par la pasteure Titia Es-Sbanti.
URL:https://nimes-eglise-protestante-unie.fr/event/culte-au-temple-du-mas-des-abeilles-3/
LOCATION:Temple du Mas des abeilles\, 2135 chemin du Bachas\, Nîmes\, 30000\, France
CATEGORIES:Cultes,Spiritualité
ATTACH;FMTTYPE=image/jpeg:https://nimes-eglise-protestante-unie.fr/wp-content/uploads/2024/11/MdA-automne-16-9.jpg
END:VEVENT
BEGIN:VEVENT
DTSTART;TZID=Europe/Paris:20250504T103000
DTEND;TZID=Europe/Paris:20250504T113000
DTSTAMP:20260421T154057
CREATED:20250416T140505Z
LAST-MODIFIED:20250416T140505Z
UID:21207-1746354600-1746358200@nimes-eglise-protestante-unie.fr
SUMMARY:Culte au temple de la Fraternité
DESCRIPTION:Culte célébré par la pasteure Iris Reuter.
URL:https://nimes-eglise-protestante-unie.fr/event/culte-au-temple-de-la-fraternite-9/
CATEGORIES:Cultes
ATTACH;FMTTYPE=image/jpeg:https://nimes-eglise-protestante-unie.fr/wp-content/uploads/2024/11/la-Frata-tous.jpg
END:VEVENT
BEGIN:VEVENT
DTSTART;TZID=Europe/Paris:20250504T103000
DTEND;TZID=Europe/Paris:20250504T113000
DTSTAMP:20260421T154057
CREATED:20250416T140406Z
LAST-MODIFIED:20250416T140406Z
UID:21206-1746354600-1746358200@nimes-eglise-protestante-unie.fr
SUMMARY:Culte au Grand Temple
DESCRIPTION:Culte célébré par le pasteur Thierry Azémard
URL:https://nimes-eglise-protestante-unie.fr/event/culte-au-grand-temple-11/
LOCATION:Grand Temple\, 1 place du Grand Temple\, Nîmes\, 30000\, France
CATEGORIES:Cultes
ATTACH;FMTTYPE=image/png:https://nimes-eglise-protestante-unie.fr/wp-content/uploads/2021/02/Grand-Temple-3.png
END:VEVENT
BEGIN:VEVENT
DTSTART;TZID=Europe/Paris:20250503T180000
DTEND;TZID=Europe/Paris:20250503T190000
DTSTAMP:20260421T154057
CREATED:20250416T133833Z
LAST-MODIFIED:20250416T133833Z
UID:21177-1746295200-1746298800@nimes-eglise-protestante-unie.fr
SUMMARY:Culte au temple du Mas de Abeilles
DESCRIPTION:Culte célébré par le pasteur Redouane Es-Sbanti.
URL:https://nimes-eglise-protestante-unie.fr/event/culte-au-temple-du-mas-de-abeilles-3/
LOCATION:Temple du Mas des abeilles\, 2135 chemin du Bachas\, Nîmes\, 30000\, France
CATEGORIES:Cultes
ATTACH;FMTTYPE=image/jpeg:https://nimes-eglise-protestante-unie.fr/wp-content/uploads/2024/11/MdA-automne-16-9.jpg
END:VEVENT
BEGIN:VEVENT
DTSTART;TZID=Europe/Paris:20250427T103000
DTEND;TZID=Europe/Paris:20250427T113000
DTSTAMP:20260421T154057
CREATED:20250416T140052Z
LAST-MODIFIED:20250425T051959Z
UID:21204-1745749800-1745753400@nimes-eglise-protestante-unie.fr
SUMMARY:Culte commun au temple de l'Oratoire
DESCRIPTION:Culte célébré par Guilhen Antier.
URL:https://nimes-eglise-protestante-unie.fr/event/culte-au-grand-temple-10/
LOCATION:Temple de l’Oratoire\, 2 place de l'Oratoire\, Nîmes\, 30900\, France
CATEGORIES:Cultes
ATTACH;FMTTYPE=image/jpeg:https://nimes-eglise-protestante-unie.fr/wp-content/uploads/2024/03/image.jpg
END:VEVENT
BEGIN:VEVENT
DTSTART;TZID=Europe/Paris:20250426T180000
DTEND;TZID=Europe/Paris:20250426T190000
DTSTAMP:20260421T154057
CREATED:20250416T133727Z
LAST-MODIFIED:20250416T133727Z
UID:21176-1745690400-1745694000@nimes-eglise-protestante-unie.fr
SUMMARY:Culte au temple du Mas de Abeilles
DESCRIPTION:Culte célébré par la pasteure Titia Es-Sbanti.
URL:https://nimes-eglise-protestante-unie.fr/event/culte-au-temple-du-mas-de-abeilles-2/
LOCATION:Temple du Mas des abeilles\, 2135 chemin du Bachas\, Nîmes\, 30000\, France
CATEGORIES:Cultes
ATTACH;FMTTYPE=image/jpeg:https://nimes-eglise-protestante-unie.fr/wp-content/uploads/2024/11/MdA-automne-16-9.jpg
END:VEVENT
BEGIN:VEVENT
DTSTART;TZID=Europe/Paris:20250420T103000
DTEND;TZID=Europe/Paris:20250420T113000
DTSTAMP:20260421T154057
CREATED:20250416T134637Z
LAST-MODIFIED:20250416T144058Z
UID:21187-1745145000-1745148600@nimes-eglise-protestante-unie.fr
SUMMARY:Culte de Pâques au Grand Temple
DESCRIPTION:Culte avec Sainte-Cène célébré par la pasteure Claire des Mesnards.
URL:https://nimes-eglise-protestante-unie.fr/event/culte-de-paques-au-grand-temple/
LOCATION:Grand Temple\, 1 place du Grand Temple\, Nîmes\, 30000\, France
CATEGORIES:Cultes,Cultes spéciaux
ATTACH;FMTTYPE=image/jpeg:https://nimes-eglise-protestante-unie.fr/wp-content/uploads/2025/04/passion-3111247_640.jpg
END:VEVENT
BEGIN:VEVENT
DTSTART;TZID=Europe/Paris:20250420T103000
DTEND;TZID=Europe/Paris:20250420T113000
DTSTAMP:20260421T154057
CREATED:20250416T134511Z
LAST-MODIFIED:20250416T144053Z
UID:21186-1745145000-1745148600@nimes-eglise-protestante-unie.fr
SUMMARY:Culte de Pâques au temple de la Fraternité
DESCRIPTION:Culte avec Sainte-Cène célébré par la pasteure Iris Reuter.
URL:https://nimes-eglise-protestante-unie.fr/event/culte-de-paques-au-temple-de-la-fraternite/
LOCATION:Temple de la Fraternité\, 7\, rue Antoine Delon\, Nîmes\, 30000\, France
CATEGORIES:Cultes,Cultes spéciaux
ATTACH;FMTTYPE=image/jpeg:https://nimes-eglise-protestante-unie.fr/wp-content/uploads/2025/04/passion-3111303_640.jpg
END:VEVENT
END:VCALENDAR