BEGIN:VCALENDAR
VERSION:2.0
PRODID:-//Eglise Protestante Unie de Nîmes - ECPv6.4.0.1//NONSGML v1.0//EN
CALSCALE:GREGORIAN
METHOD:PUBLISH
X-WR-CALNAME:Eglise Protestante Unie de Nîmes
X-ORIGINAL-URL:https://nimes-eglise-protestante-unie.fr
X-WR-CALDESC:évènements pour Eglise Protestante Unie de Nîmes
REFRESH-INTERVAL;VALUE=DURATION:PT1H
X-Robots-Tag:noindex
X-PUBLISHED-TTL:PT1H
BEGIN:VTIMEZONE
TZID:Europe/Paris
BEGIN:DAYLIGHT
TZOFFSETFROM:+0100
TZOFFSETTO:+0200
TZNAME:CEST
DTSTART:20250330T010000
END:DAYLIGHT
BEGIN:STANDARD
TZOFFSETFROM:+0200
TZOFFSETTO:+0100
TZNAME:CET
DTSTART:20251026T010000
END:STANDARD
END:VTIMEZONE
BEGIN:VEVENT
DTSTART;TZID=Europe/Paris:20251225T103000
DTEND;TZID=Europe/Paris:20251225T113000
DTSTAMP:20260421T105508
CREATED:20251214T142510Z
LAST-MODIFIED:20251214T142528Z
UID:22483-1766658600-1766662200@nimes-eglise-protestante-unie.fr
SUMMARY:Culte de Noël au Grand Temple
DESCRIPTION:Culte présidé par le pasteur Frank Massler.
URL:https://nimes-eglise-protestante-unie.fr/event/culte-de-noel-au-grand-temple-2/
LOCATION:Grand Temple\, 1 place du Grand Temple\, Nîmes\, 30000\, France
CATEGORIES:Cultes spéciaux,Spiritualité
ATTACH;FMTTYPE=image/png:https://nimes-eglise-protestante-unie.fr/wp-content/uploads/2023/12/Creche-1.png
ORGANIZER;CN="Frank Massler":MAILTO:epu.fmassler@gmail.com
END:VEVENT
BEGIN:VEVENT
DTSTART;TZID=Europe/Paris:20251221T103000
DTEND;TZID=Europe/Paris:20251221T113000
DTSTAMP:20260421T105508
CREATED:20251214T141954Z
LAST-MODIFIED:20251214T141954Z
UID:22481-1766313000-1766316600@nimes-eglise-protestante-unie.fr
SUMMARY:Culte au temple de la Fraternité
DESCRIPTION:Culte célébré par le pasteur Christophe Amédro.
URL:https://nimes-eglise-protestante-unie.fr/event/culte-au-temple-de-la-fraternite-22/
LOCATION:Temple de la Fraternité\, 7\, rue Antoine Delon\, Nîmes\, 30000\, France
CATEGORIES:Cultes
ATTACH;FMTTYPE=image/jpeg:https://nimes-eglise-protestante-unie.fr/wp-content/uploads/2024/11/la-Frata-tous.jpg
END:VEVENT
BEGIN:VEVENT
DTSTART;TZID=Europe/Paris:20251221T103000
DTEND;TZID=Europe/Paris:20251221T113000
DTSTAMP:20260421T105508
CREATED:20251214T141758Z
LAST-MODIFIED:20251214T141758Z
UID:22479-1766313000-1766316600@nimes-eglise-protestante-unie.fr
SUMMARY:Culte au Grand Temple
DESCRIPTION:Culte célébré par le pasteur Lionel Tambon.
URL:https://nimes-eglise-protestante-unie.fr/event/culte-au-grand-temple-31/
LOCATION:Grand Temple\, 1 place du Grand Temple\, Nîmes\, 30000\, France
CATEGORIES:Cultes
ATTACH;FMTTYPE=image/png:https://nimes-eglise-protestante-unie.fr/wp-content/uploads/2021/02/Grand-Temple-3.png
END:VEVENT
BEGIN:VEVENT
DTSTART;TZID=Europe/Paris:20251130T103000
DTEND;TZID=Europe/Paris:20251130T113000
DTSTAMP:20260421T105508
CREATED:20250930T135636Z
LAST-MODIFIED:20251004T085357Z
UID:21989-1764498600-1764502200@nimes-eglise-protestante-unie.fr
SUMMARY:Culte de la Cité
DESCRIPTION:Le culte sera présidé par les pasteurs Sophie Fantoni et Frank Massler.
URL:https://nimes-eglise-protestante-unie.fr/event/culte-de-la-cite-2/
LOCATION:Temple de l’Oratoire\, 2 place de l'Oratoire\, Nîmes\, 30900\, France
CATEGORIES:Cultes spéciaux
ATTACH;FMTTYPE=image/jpeg:https://nimes-eglise-protestante-unie.fr/wp-content/uploads/2024/09/ORATOIRE-extra-16-9-petit-85.jpg
ORGANIZER;CN="Frank Massler":MAILTO:epu.fmassler@gmail.com
END:VEVENT
BEGIN:VEVENT
DTSTART;TZID=Europe/Paris:20251123T103000
DTEND;TZID=Europe/Paris:20251123T113000
DTSTAMP:20260421T105508
CREATED:20251002T192719Z
LAST-MODIFIED:20251105T202509Z
UID:22022-1763893800-1763897400@nimes-eglise-protestante-unie.fr
SUMMARY:Culte au temple de l'Oratoire
DESCRIPTION:Culte présidé par la pasteure Sophie Fantoni.
URL:https://nimes-eglise-protestante-unie.fr/event/culte-au-temple-de-loratoire-4/
LOCATION:Temple de l’Oratoire\, 2 place de l'Oratoire\, Nîmes\, 30900\, France
CATEGORIES:Cultes
ATTACH;FMTTYPE=image/jpeg:https://nimes-eglise-protestante-unie.fr/wp-content/uploads/2024/09/ORATOIRE-extra-16-9.jpg
END:VEVENT
BEGIN:VEVENT
DTSTART;TZID=Europe/Paris:20251122T180000
DTEND;TZID=Europe/Paris:20251122T190000
DTSTAMP:20260421T105508
CREATED:20251002T191224Z
LAST-MODIFIED:20251002T191224Z
UID:22009-1763834400-1763838000@nimes-eglise-protestante-unie.fr
SUMMARY:Culte au temple du Mas des Abeilles
DESCRIPTION:Culte présidé par la pasteure Titia Es-Sbanti.
URL:https://nimes-eglise-protestante-unie.fr/event/culte-au-temple-du-mas-des-abeilles-9/
LOCATION:Temple du Mas des abeilles\, 2135 chemin du Bachas\, Nîmes\, 30000\, France
CATEGORIES:Cultes
ATTACH;FMTTYPE=image/jpeg:https://nimes-eglise-protestante-unie.fr/wp-content/uploads/2024/11/MdA-automne-16-9.jpg
END:VEVENT
BEGIN:VEVENT
DTSTART;TZID=Europe/Paris:20251116T103000
DTEND;TZID=Europe/Paris:20251116T113000
DTSTAMP:20260421T105508
CREATED:20251002T193412Z
LAST-MODIFIED:20251002T193412Z
UID:22003-1763289000-1763292600@nimes-eglise-protestante-unie.fr
SUMMARY:Culte au temple de la Fraternité
DESCRIPTION:Culte présidé par Bernard Cavalier.
URL:https://nimes-eglise-protestante-unie.fr/event/culte-au-temple-de-la-fraternite-16/
LOCATION:Temple de la Fraternité\, 7\, rue Antoine Delon\, Nîmes\, 30000\, France
CATEGORIES:Cultes
ATTACH;FMTTYPE=image/jpeg:https://nimes-eglise-protestante-unie.fr/wp-content/uploads/2024/11/la-Frata-tous.jpg
END:VEVENT
BEGIN:VEVENT
DTSTART;TZID=Europe/Paris:20251116T103000
DTEND;TZID=Europe/Paris:20251116T113000
DTSTAMP:20260421T105508
CREATED:20251002T192409Z
LAST-MODIFIED:20251002T192409Z
UID:22020-1763289000-1763292600@nimes-eglise-protestante-unie.fr
SUMMARY:Culte au Grand Temple
DESCRIPTION:Culte présidé par le pasteur Frank Massler.
URL:https://nimes-eglise-protestante-unie.fr/event/culte-au-grand-temple-30/
LOCATION:Grand Temple\, 1 place du Grand Temple\, Nîmes\, 30000\, France
CATEGORIES:Cultes
ATTACH;FMTTYPE=image/png:https://nimes-eglise-protestante-unie.fr/wp-content/uploads/2021/02/Grand-Temple-3.png
ORGANIZER;CN="Frank Massler":MAILTO:epu.fmassler@gmail.com
END:VEVENT
BEGIN:VEVENT
DTSTART;TZID=Europe/Paris:20251109T103000
DTEND;TZID=Europe/Paris:20251109T113000
DTSTAMP:20260421T105508
CREATED:20251002T193929Z
LAST-MODIFIED:20251105T200609Z
UID:22036-1762684200-1762687800@nimes-eglise-protestante-unie.fr
SUMMARY:Culte Café-Croissant au temple de la Fraternité
DESCRIPTION:Culte présidé par la pasteure Iris Reuter. \nCulte Café-Croissant « La Bible et le Journal – comment garder l’espérance ? » avec l’intervention de Jean-Luc Mouton\, ancien directeur de l’hebdomadaire protestant Réforme. \nRepas bar à Soupes\, participation libre aux frais et après-midi « Offrir une étoile d’espérance » : ateliers de fabrication d’étoiles à offrir aux personnes isolées\, en collaboration avec l’aumônerie des maisons de retraites protestantes. \n\n\n\n\n\n\n\n 
URL:https://nimes-eglise-protestante-unie.fr/event/culte-au-temple-de-la-fraternite-21/
LOCATION:Temple de la Fraternité\, 7\, rue Antoine Delon\, Nîmes\, 30000\, France
CATEGORIES:Convivialité,Cultes,Solidarité,Spiritualité
ATTACH;FMTTYPE=image/jpeg:https://nimes-eglise-protestante-unie.fr/wp-content/uploads/2025/11/filip-bunkens-9YDaCFmuoug-unsplash1-scaled.jpg
END:VEVENT
BEGIN:VEVENT
DTSTART;TZID=Europe/Paris:20251109T103000
DTEND;TZID=Europe/Paris:20251109T113000
DTSTAMP:20260421T105508
CREATED:20251002T191733Z
LAST-MODIFIED:20251105T201914Z
UID:22023-1762684200-1762687800@nimes-eglise-protestante-unie.fr
SUMMARY:Culte inter-génération à la maison du protestantisme
DESCRIPTION:Comment la musique peut-elle réconforter ? \nCulte présidé par les pasteurs Sophie Fantoni et Frank Massler et en présence d’un musicothérapeute.
URL:https://nimes-eglise-protestante-unie.fr/event/culte-inter-generation-a-la-maison-du-protestantisme/
LOCATION:Carré protestant – Maison du protestantisme\, 3\, rue Claude Brousson\, Nîmes\, 30000\, France
CATEGORIES:Cultes,Spiritualité
ATTACH;FMTTYPE=image/jpeg:https://nimes-eglise-protestante-unie.fr/wp-content/uploads/2025/10/affiche-culte-inter-generation-scaled.jpeg
ORGANIZER;CN="Frank Massler":MAILTO:epu.fmassler@gmail.com
END:VEVENT
BEGIN:VEVENT
DTSTART;TZID=Europe/Paris:20251108T180000
DTEND;TZID=Europe/Paris:20251108T190000
DTSTAMP:20260421T105508
CREATED:20251002T191133Z
LAST-MODIFIED:20251002T191133Z
UID:22008-1762624800-1762628400@nimes-eglise-protestante-unie.fr
SUMMARY:Culte KT au temple du Mas des Abeilles
DESCRIPTION:Culte présidé par la pasteure Titia Es-Sbanti.
URL:https://nimes-eglise-protestante-unie.fr/event/culte-kt-au-temple-du-mas-des-abeilles-3/
LOCATION:Temple du Mas des abeilles\, 2135 chemin du Bachas\, Nîmes\, 30000\, France
CATEGORIES:Cultes
ATTACH;FMTTYPE=image/jpeg:https://nimes-eglise-protestante-unie.fr/wp-content/uploads/2024/11/MdA-automne-16-9.jpg
END:VEVENT
BEGIN:VEVENT
DTSTART;TZID=Europe/Paris:20251102T103000
DTEND;TZID=Europe/Paris:20251102T113000
DTSTAMP:20260421T105508
CREATED:20251002T193846Z
LAST-MODIFIED:20251002T193846Z
UID:22035-1762079400-1762083000@nimes-eglise-protestante-unie.fr
SUMMARY:Culte au temple de la Fraternité
DESCRIPTION:Culte présidé par Christiane Hervaud.
URL:https://nimes-eglise-protestante-unie.fr/event/culte-au-temple-de-la-fraternite-20/
LOCATION:Christiane Hervaud
CATEGORIES:Cultes
ATTACH;FMTTYPE=image/jpeg:https://nimes-eglise-protestante-unie.fr/wp-content/uploads/2024/11/la-Frata-tous.jpg
END:VEVENT
BEGIN:VEVENT
DTSTART;TZID=Europe/Paris:20251102T103000
DTEND;TZID=Europe/Paris:20251102T113000
DTSTAMP:20260421T105508
CREATED:20251002T192112Z
LAST-MODIFIED:20251002T192112Z
UID:22019-1762079400-1762083000@nimes-eglise-protestante-unie.fr
SUMMARY:Culte au Grand Temple
DESCRIPTION:Culte présidé par la pasteure Sophie Fantoni.
URL:https://nimes-eglise-protestante-unie.fr/event/culte-au-grand-temple-28/
LOCATION:Grand Temple\, 1 place du Grand Temple\, Nîmes\, 30000\, France
CATEGORIES:Cultes
ATTACH;FMTTYPE=image/png:https://nimes-eglise-protestante-unie.fr/wp-content/uploads/2021/02/Grand-Temple-3.png
END:VEVENT
BEGIN:VEVENT
DTSTART;TZID=Europe/Paris:20251101T180000
DTEND;TZID=Europe/Paris:20251101T190000
DTSTAMP:20260421T105508
CREATED:20251002T191035Z
LAST-MODIFIED:20251002T191035Z
UID:22007-1762020000-1762023600@nimes-eglise-protestante-unie.fr
SUMMARY:Culte au temple du Mas des Abeilles
DESCRIPTION:Culte présidé par le pasteur Redouane Es-Sbanti.
URL:https://nimes-eglise-protestante-unie.fr/event/culte-au-temple-du-mas-des-abeilles-8/
LOCATION:Temple du Mas des abeilles\, 2135 chemin du Bachas\, Nîmes\, 30000\, France
CATEGORIES:Cultes
ATTACH;FMTTYPE=image/jpeg:https://nimes-eglise-protestante-unie.fr/wp-content/uploads/2024/11/MdA-automne-16-9.jpg
END:VEVENT
BEGIN:VEVENT
DTSTART;TZID=Europe/Paris:20251026T103000
DTEND;TZID=Europe/Paris:20251026T113000
DTSTAMP:20260421T105508
CREATED:20250930T134744Z
LAST-MODIFIED:20251004T085602Z
UID:21987-1761474600-1761478200@nimes-eglise-protestante-unie.fr
SUMMARY:Culte de la Réformation
DESCRIPTION:Culte présidé par la pasteure Titia Es-Sbanti. \nLe dernier dimanche d’octobre\, les protestants célèbrent le culte de la Réformation\, un moment fort qui commémore les débuts du protestantisme. Cette date renvoie à l’année 1517 où Martin Luther\, moine et théologien Allemand\, aurait affiché ses 95 thèses sur la porte de l’église de Wittenberg.
URL:https://nimes-eglise-protestante-unie.fr/event/culte-de-la-reformation/
LOCATION:Temple de l’Oratoire\, 2 place de l'Oratoire\, Nîmes\, 30900\, France
CATEGORIES:Cultes spéciaux,Spiritualité
ATTACH;FMTTYPE=image/jpeg:https://nimes-eglise-protestante-unie.fr/wp-content/uploads/2025/09/martin-luther-2357004_1280.jpg
END:VEVENT
BEGIN:VEVENT
DTSTART;TZID=Europe/Paris:20251019T103000
DTEND;TZID=Europe/Paris:20251019T113000
DTSTAMP:20260421T105508
CREATED:20251002T193719Z
LAST-MODIFIED:20251002T194115Z
UID:22034-1760869800-1760873400@nimes-eglise-protestante-unie.fr
SUMMARY:Culte au temple de la Fraternité
DESCRIPTION:Culte présidé par la pasteure Iris Reuter.
URL:https://nimes-eglise-protestante-unie.fr/event/culte-au-temple-de-la-fraternite-19/
LOCATION:Temple de la Fraternité\, 7\, rue Antoine Delon\, Nîmes\, 30000\, France
CATEGORIES:Cultes
ATTACH;FMTTYPE=image/jpeg:https://nimes-eglise-protestante-unie.fr/wp-content/uploads/2024/11/la-Frata-tous.jpg
END:VEVENT
BEGIN:VEVENT
DTSTART;TZID=Europe/Paris:20251019T103000
DTEND;TZID=Europe/Paris:20251019T113000
DTSTAMP:20260421T105508
CREATED:20251002T192257Z
LAST-MODIFIED:20251002T192257Z
UID:22018-1760869800-1760873400@nimes-eglise-protestante-unie.fr
SUMMARY:Culte au Grand Temple
DESCRIPTION:Culte présidé par le pasteur Frank Massler.
URL:https://nimes-eglise-protestante-unie.fr/event/culte-au-grand-temple-29/
LOCATION:Grand Temple\, 1 place du Grand Temple\, Nîmes\, 30000\, France
CATEGORIES:Cultes
ATTACH;FMTTYPE=image/png:https://nimes-eglise-protestante-unie.fr/wp-content/uploads/2021/02/Grand-Temple-3.png
ORGANIZER;CN="Frank Massler":MAILTO:epu.fmassler@gmail.com
END:VEVENT
BEGIN:VEVENT
DTSTART;TZID=Europe/Paris:20251018T180000
DTEND;TZID=Europe/Paris:20251018T190000
DTSTAMP:20260421T105508
CREATED:20251002T190951Z
LAST-MODIFIED:20251002T190951Z
UID:22006-1760810400-1760814000@nimes-eglise-protestante-unie.fr
SUMMARY:Culte au temple du Mas des Abeilles
DESCRIPTION:Culte présidé par le pasteur Frank Massler.
URL:https://nimes-eglise-protestante-unie.fr/event/culte-au-temple-du-mas-des-abeilles-7/
LOCATION:Temple du Mas des abeilles\, 2135 chemin du Bachas\, Nîmes\, 30000\, France
CATEGORIES:Cultes
ATTACH;FMTTYPE=image/jpeg:https://nimes-eglise-protestante-unie.fr/wp-content/uploads/2024/11/MdA-automne-16-9.jpg
ORGANIZER;CN="Frank Massler":MAILTO:epu.fmassler@gmail.com
END:VEVENT
BEGIN:VEVENT
DTSTART;TZID=Europe/Paris:20251012T103000
DTEND;TZID=Europe/Paris:20251012T113000
DTSTAMP:20260421T105508
CREATED:20251002T193610Z
LAST-MODIFIED:20251002T194048Z
UID:22033-1760265000-1760268600@nimes-eglise-protestante-unie.fr
SUMMARY:Culte au temple de la Fraternité
DESCRIPTION:Culte présidé par les pasteures Iris Reuter et Sophie Fantoni.
URL:https://nimes-eglise-protestante-unie.fr/event/culte-au-temple-de-la-fraternite-18/
LOCATION:Temple de la Fraternité\, 7\, rue Antoine Delon\, Nîmes\, 30000\, France
CATEGORIES:Cultes
ATTACH;FMTTYPE=image/jpeg:https://nimes-eglise-protestante-unie.fr/wp-content/uploads/2024/11/la-Frata-tous.jpg
END:VEVENT
BEGIN:VEVENT
DTSTART;TZID=Europe/Paris:20251012T103000
DTEND;TZID=Europe/Paris:20251012T113000
DTSTAMP:20260421T105508
CREATED:20251002T192548Z
LAST-MODIFIED:20251002T192548Z
UID:22021-1760265000-1760268600@nimes-eglise-protestante-unie.fr
SUMMARY:Culte au temple de l'Oratoire
DESCRIPTION:Culte présidé par le pasteur Frank Massler.
URL:https://nimes-eglise-protestante-unie.fr/event/culte-au-temple-de-loratoire-3/
LOCATION:Temple de l’Oratoire\, 2 place de l'Oratoire\, Nîmes\, 30900\, France
CATEGORIES:Cultes
ATTACH;FMTTYPE=image/jpeg:https://nimes-eglise-protestante-unie.fr/wp-content/uploads/2024/09/ORATOIRE-extra-16-9.jpg
ORGANIZER;CN="Frank Massler":MAILTO:epu.fmassler@gmail.com
END:VEVENT
BEGIN:VEVENT
DTSTART;TZID=Europe/Paris:20251011T180000
DTEND;TZID=Europe/Paris:20251011T190000
DTSTAMP:20260421T105508
CREATED:20251002T190910Z
LAST-MODIFIED:20251002T190910Z
UID:22005-1760205600-1760209200@nimes-eglise-protestante-unie.fr
SUMMARY:Culte KT au temple du Mas des Abeilles
DESCRIPTION:Culte présidé par la pasteure Titia Es-Sbanti.
URL:https://nimes-eglise-protestante-unie.fr/event/culte-kt-au-temple-du-mas-des-abeilles-2/
LOCATION:Temple du Mas des abeilles\, 2135 chemin du Bachas\, Nîmes\, 30000\, France
CATEGORIES:Cultes
ATTACH;FMTTYPE=image/jpeg:https://nimes-eglise-protestante-unie.fr/wp-content/uploads/2024/11/MdA-automne-16-9.jpg
END:VEVENT
BEGIN:VEVENT
DTSTART;TZID=Europe/Paris:20251005T103000
DTEND;TZID=Europe/Paris:20251005T113000
DTSTAMP:20260421T105508
CREATED:20251002T193519Z
LAST-MODIFIED:20251002T194102Z
UID:22032-1759660200-1759663800@nimes-eglise-protestante-unie.fr
SUMMARY:Culte au temple de la Fraternité
DESCRIPTION:Culte présidé par la pasteure Iris Reuter.
URL:https://nimes-eglise-protestante-unie.fr/event/culte-au-temple-de-la-fraternite-17/
LOCATION:Temple de la Fraternité\, 7\, rue Antoine Delon\, Nîmes\, 30000\, France
CATEGORIES:Cultes
ATTACH;FMTTYPE=image/jpeg:https://nimes-eglise-protestante-unie.fr/wp-content/uploads/2024/11/la-Frata-tous.jpg
END:VEVENT
BEGIN:VEVENT
DTSTART;TZID=Europe/Paris:20251005T103000
DTEND;TZID=Europe/Paris:20251005T113000
DTSTAMP:20260421T105508
CREATED:20251002T191955Z
LAST-MODIFIED:20251002T191955Z
UID:22017-1759660200-1759663800@nimes-eglise-protestante-unie.fr
SUMMARY:Culte au Grand Temple
DESCRIPTION:Culte présidé par la pasteure Sophie Fantoni.
URL:https://nimes-eglise-protestante-unie.fr/event/culte-au-grand-temple-27/
LOCATION:Grand Temple\, 1 place du Grand Temple\, Nîmes\, 30000\, France
CATEGORIES:Cultes
ATTACH;FMTTYPE=image/png:https://nimes-eglise-protestante-unie.fr/wp-content/uploads/2021/02/Grand-Temple-3.png
END:VEVENT
BEGIN:VEVENT
DTSTART;TZID=Europe/Paris:20251004T080000
DTEND;TZID=Europe/Paris:20251004T180000
DTSTAMP:20260421T105508
CREATED:20251002T190320Z
LAST-MODIFIED:20251002T190320Z
UID:22004-1759564800-1759600800@nimes-eglise-protestante-unie.fr
SUMMARY:Culte au temple du Mas des Abeilles
DESCRIPTION:Culte présidé par le pasteur Redouane Es-Sbanti.
URL:https://nimes-eglise-protestante-unie.fr/event/culte-au-temple-du-mas-des-abeilles-6/
LOCATION:Temple du Mas des abeilles\, 2135 chemin du Bachas\, Nîmes\, 30000\, France
CATEGORIES:Cultes
ATTACH;FMTTYPE=image/jpeg:https://nimes-eglise-protestante-unie.fr/wp-content/uploads/2024/11/MdA-automne-16-9.jpg
END:VEVENT
BEGIN:VEVENT
DTSTART;TZID=Europe/Paris:20250928T103000
DTEND;TZID=Europe/Paris:20250928T113000
DTSTAMP:20260421T105508
CREATED:20250829T205827Z
LAST-MODIFIED:20250829T205827Z
UID:21762-1759055400-1759059000@nimes-eglise-protestante-unie.fr
SUMMARY:Culte de rentrée de l’Église de Nîmes au temple de l'Oratoire
DESCRIPTION:Culte présidé par les pasteures Sophie Fantoni et Iris Reuter.
URL:https://nimes-eglise-protestante-unie.fr/event/culte-de-rentree-de-leglise-de-nimes-au-temple-de-loratoire/
LOCATION:Temple de l’Oratoire\, 2 place de l'Oratoire\, Nîmes\, 30900\, France
CATEGORIES:Cultes spéciaux
ATTACH;FMTTYPE=image/jpeg:https://nimes-eglise-protestante-unie.fr/wp-content/uploads/2024/03/image.jpg
END:VEVENT
BEGIN:VEVENT
DTSTART;TZID=Europe/Paris:20250921T103000
DTEND;TZID=Europe/Paris:20250921T113000
DTSTAMP:20260421T105508
CREATED:20250829T205216Z
LAST-MODIFIED:20250829T205216Z
UID:21760-1758450600-1758454200@nimes-eglise-protestante-unie.fr
SUMMARY:Culte au temple de la Fraternité
DESCRIPTION:Culte présidé par le pasteur Thierry Azémard.
URL:https://nimes-eglise-protestante-unie.fr/event/culte-au-temple-de-la-fraternite-15/
LOCATION:Temple de la Fraternité\, 7\, rue Antoine Delon\, Nîmes\, 30000\, France
CATEGORIES:Cultes
ATTACH;FMTTYPE=image/jpeg:https://nimes-eglise-protestante-unie.fr/wp-content/uploads/2024/11/la-Frata-tous.jpg
END:VEVENT
BEGIN:VEVENT
DTSTART;TZID=Europe/Paris:20250921T103000
DTEND;TZID=Europe/Paris:20250921T113000
DTSTAMP:20260421T105508
CREATED:20250829T203959Z
LAST-MODIFIED:20250829T203959Z
UID:21756-1758450600-1758454200@nimes-eglise-protestante-unie.fr
SUMMARY:Culte au Grand Temple
DESCRIPTION:Culte présidé par le pasteur Lionel Tambon.
URL:https://nimes-eglise-protestante-unie.fr/event/culte-au-grand-temple-26/
LOCATION:Grand Temple\, 1 place du Grand Temple\, Nîmes\, 30000\, France
CATEGORIES:Cultes
ATTACH;FMTTYPE=image/png:https://nimes-eglise-protestante-unie.fr/wp-content/uploads/2021/02/Grand-Temple-3.png
END:VEVENT
BEGIN:VEVENT
DTSTART;TZID=Europe/Paris:20250920T180000
DTEND;TZID=Europe/Paris:20250920T190000
DTSTAMP:20260421T105508
CREATED:20250829T204532Z
LAST-MODIFIED:20250829T204532Z
UID:21758-1758391200-1758394800@nimes-eglise-protestante-unie.fr
SUMMARY:Culte au temple du Mas des Abeilles
DESCRIPTION:Culte présidé par le pasteur Christophe Amédro.
URL:https://nimes-eglise-protestante-unie.fr/event/culte-au-temple-du-mas-des-abeilles-5/
LOCATION:Temple du Mas des abeilles\, 2135 chemin du Bachas\, Nîmes\, 30000\, France
CATEGORIES:Cultes
ATTACH;FMTTYPE=image/jpeg:https://nimes-eglise-protestante-unie.fr/wp-content/uploads/2024/11/MdA-automne-16-9.jpg
END:VEVENT
BEGIN:VEVENT
DTSTART;TZID=Europe/Paris:20250914T103000
DTEND;TZID=Europe/Paris:20250914T143000
DTSTAMP:20260421T105508
CREATED:20250829T205546Z
LAST-MODIFIED:20250829T205611Z
UID:21761-1757845800-1757860200@nimes-eglise-protestante-unie.fr
SUMMARY:Culte de rentrée du Centre-Ville à la Gazelle
DESCRIPTION:Culte présidé par les pasteurs Sophie Fantoni et Franck Massler. Le culte sera suivi d’un pique-nique tiré des sacs.
URL:https://nimes-eglise-protestante-unie.fr/event/culte-de-rentree-a-la-gazelle/
LOCATION:Salle paroissiale de la Gazelle\, 453\, rue Ambroise Croizat\, Nîmes\, 30000\, France
CATEGORIES:Cultes
ATTACH;FMTTYPE=image/png:https://nimes-eglise-protestante-unie.fr/wp-content/uploads/2019/09/culte-La-Gazelle.png
END:VEVENT
BEGIN:VEVENT
DTSTART;TZID=Europe/Paris:20250914T103000
DTEND;TZID=Europe/Paris:20250914T143000
DTSTAMP:20260421T105508
CREATED:20250829T205011Z
LAST-MODIFIED:20250829T205011Z
UID:21759-1757845800-1757860200@nimes-eglise-protestante-unie.fr
SUMMARY:Culte de rentrée au temple de la Fraternité
DESCRIPTION:Culte présidé par la pasteure Iris Reuter. \nLe culte sera suivi d’un repas fraternel. N’apportez que vos couverts… ainsi qu’une participation financière. \nEt pour l’après-midi\, pétanque et bavardages au programme !
URL:https://nimes-eglise-protestante-unie.fr/event/culte-de-rentree-au-temple-de-la-fraternite/
LOCATION:Temple de la Fraternité\, 7\, rue Antoine Delon\, Nîmes\, 30000\, France
CATEGORIES:Cultes
ATTACH;FMTTYPE=image/jpeg:https://nimes-eglise-protestante-unie.fr/wp-content/uploads/2024/11/la-Frata-tous.jpg
END:VEVENT
END:VCALENDAR