BEGIN:VCALENDAR
VERSION:2.0
PRODID:-//Eglise Protestante Unie de Nîmes - ECPv6.4.0.1//NONSGML v1.0//EN
CALSCALE:GREGORIAN
METHOD:PUBLISH
X-ORIGINAL-URL:https://nimes-eglise-protestante-unie.fr
X-WR-CALDESC:évènements pour Eglise Protestante Unie de Nîmes
REFRESH-INTERVAL;VALUE=DURATION:PT1H
X-Robots-Tag:noindex
X-PUBLISHED-TTL:PT1H
BEGIN:VTIMEZONE
TZID:Europe/Paris
BEGIN:DAYLIGHT
TZOFFSETFROM:+0100
TZOFFSETTO:+0200
TZNAME:CEST
DTSTART:20240331T010000
END:DAYLIGHT
BEGIN:STANDARD
TZOFFSETFROM:+0200
TZOFFSETTO:+0100
TZNAME:CET
DTSTART:20241027T010000
END:STANDARD
BEGIN:DAYLIGHT
TZOFFSETFROM:+0100
TZOFFSETTO:+0200
TZNAME:CEST
DTSTART:20250330T010000
END:DAYLIGHT
BEGIN:STANDARD
TZOFFSETFROM:+0200
TZOFFSETTO:+0100
TZNAME:CET
DTSTART:20251026T010000
END:STANDARD
END:VTIMEZONE
BEGIN:VEVENT
DTSTART;TZID=Europe/Paris:20250202T103000
DTEND;TZID=Europe/Paris:20250202T113000
DTSTAMP:20260422T010546
CREATED:20250114T152246Z
LAST-MODIFIED:20250114T152246Z
UID:20474-1738492200-1738495800@nimes-eglise-protestante-unie.fr
SUMMARY:Culte au temple de la Fraternité
DESCRIPTION:Le culte sera célébré par la pasteure Iris Reuter.
URL:https://nimes-eglise-protestante-unie.fr/event/culte-au-temple-de-la-fraternite-4/
LOCATION:Temple de la Fraternité\, 7\, rue Antoine Delon\, Nîmes\, 30000\, France
CATEGORIES:Cultes
ATTACH;FMTTYPE=image/jpeg:https://nimes-eglise-protestante-unie.fr/wp-content/uploads/2024/11/la-Frata-tous.jpg
END:VEVENT
BEGIN:VEVENT
DTSTART;TZID=Europe/Paris:20250202T103000
DTEND;TZID=Europe/Paris:20250202T113000
DTSTAMP:20260422T010546
CREATED:20250114T152122Z
LAST-MODIFIED:20250114T152122Z
UID:20472-1738492200-1738495800@nimes-eglise-protestante-unie.fr
SUMMARY:Culte au Grand Temple
DESCRIPTION:Le culte sera célébré par la pasteure Claire des Mesnards.
URL:https://nimes-eglise-protestante-unie.fr/event/culte-au-grand-temple-5/
LOCATION:Grand Temple\, 1 place du Grand Temple\, Nîmes\, 30000\, France
CATEGORIES:Cultes
ATTACH;FMTTYPE=image/png:https://nimes-eglise-protestante-unie.fr/wp-content/uploads/2021/02/Grand-Temple-3.png
END:VEVENT
BEGIN:VEVENT
DTSTART;TZID=Europe/Paris:20250201T180000
DTEND;TZID=Europe/Paris:20250201T190000
DTSTAMP:20260422T010546
CREATED:20250114T151942Z
LAST-MODIFIED:20250114T171542Z
UID:20469-1738432800-1738436400@nimes-eglise-protestante-unie.fr
SUMMARY:Culte Brassens au Mas des Abeilles !
DESCRIPTION:Le culte sera célébré par le pasteur Redouane Es-Sbanti.
URL:https://nimes-eglise-protestante-unie.fr/event/culte-brassens-au-mas-des-abeilles/
LOCATION:Temple du Mas des abeilles\, 2135 chemin du Bachas\, Nîmes\, 30000\, France
CATEGORIES:Cultes
ATTACH;FMTTYPE=image/jpeg:https://nimes-eglise-protestante-unie.fr/wp-content/uploads/2024/11/MdA-automne-16-9.jpg
END:VEVENT
BEGIN:VEVENT
DTSTART;TZID=Europe/Paris:20250126T103000
DTEND;TZID=Europe/Paris:20250126T110000
DTSTAMP:20260422T010546
CREATED:20250114T150935Z
LAST-MODIFIED:20250114T150935Z
UID:20466-1737887400-1737889200@nimes-eglise-protestante-unie.fr
SUMMARY:Culte des Aumôneries au temple de l'Oratoire
DESCRIPTION:Le culte sera célébré par le pasteur Franck Massler.
URL:https://nimes-eglise-protestante-unie.fr/event/culte-des-aumoneries-au-temple-de-loratoire/
LOCATION:Temple de l’Oratoire\, 2 place de l'Oratoire\, Nîmes\, 30900\, France
CATEGORIES:Cultes,Cultes spéciaux
ATTACH;FMTTYPE=image/jpeg:https://nimes-eglise-protestante-unie.fr/wp-content/uploads/2024/09/ORATOIRE-extra-16-9.jpg
ORGANIZER;CN="Frank Massler":MAILTO:epu.fmassler@gmail.com
END:VEVENT
BEGIN:VEVENT
DTSTART;TZID=Europe/Paris:20250119T103000
DTEND;TZID=Europe/Paris:20250119T113000
DTSTAMP:20260422T010546
CREATED:20250114T150349Z
LAST-MODIFIED:20250114T171304Z
UID:20463-1737282600-1737286200@nimes-eglise-protestante-unie.fr
SUMMARY:Culte KT à la Fraternité
DESCRIPTION:Le culte sera célébré par la pasteure Iris Reuter.
URL:https://nimes-eglise-protestante-unie.fr/event/culte-des-familles-au-temple-de-la-fraternite/
LOCATION:Temple de la Fraternité\, 7\, rue Antoine Delon\, Nîmes\, 30000\, France
CATEGORIES:Cultes
ATTACH;FMTTYPE=image/jpeg:https://nimes-eglise-protestante-unie.fr/wp-content/uploads/2024/11/la-Frata-tous.jpg
END:VEVENT
BEGIN:VEVENT
DTSTART;TZID=Europe/Paris:20250119T103000
DTEND;TZID=Europe/Paris:20250119T113000
DTSTAMP:20260422T010546
CREATED:20250114T150107Z
LAST-MODIFIED:20250114T150107Z
UID:20460-1737282600-1737286200@nimes-eglise-protestante-unie.fr
SUMMARY:Culte au Grand Temple
DESCRIPTION:Le culte sera célébré par la pasteure Claire des Mesnards.
URL:https://nimes-eglise-protestante-unie.fr/event/culte-au-grand-temple-4/
LOCATION:Grand Temple\, 1 place du Grand Temple\, Nîmes\, 30000\, France
CATEGORIES:Cultes
ATTACH;FMTTYPE=image/png:https://nimes-eglise-protestante-unie.fr/wp-content/uploads/2021/02/Grand-Temple-3.png
END:VEVENT
BEGIN:VEVENT
DTSTART;TZID=Europe/Paris:20250118T180000
DTEND;TZID=Europe/Paris:20250118T190000
DTSTAMP:20260422T010546
CREATED:20250114T145303Z
LAST-MODIFIED:20250114T171522Z
UID:20456-1737223200-1737226800@nimes-eglise-protestante-unie.fr
SUMMARY:Culte KT au Mas des Abeilles
DESCRIPTION:Culte célébré par la pasteure Titia Es-Sbanti.
URL:https://nimes-eglise-protestante-unie.fr/event/culte-kt-au-mas-des-abeilles/
LOCATION:Temple du Mas des abeilles\, 2135 chemin du Bachas\, Nîmes\, 30000\, France
CATEGORIES:Cultes
ATTACH;FMTTYPE=image/jpeg:https://nimes-eglise-protestante-unie.fr/wp-content/uploads/2024/03/MdA-automne.jpg
END:VEVENT
BEGIN:VEVENT
DTSTART;TZID=Europe/Paris:20250118T170000
DTEND;TZID=Europe/Paris:20250118T180000
DTSTAMP:20260422T010546
CREATED:20250114T145645Z
LAST-MODIFIED:20250114T145645Z
UID:20458-1737219600-1737223200@nimes-eglise-protestante-unie.fr
SUMMARY:Culte des familles à la Maison du Protestantisme
DESCRIPTION:Le culte sera célébré par la pasteure Claire des Mesnards.
URL:https://nimes-eglise-protestante-unie.fr/event/culte-des-familles-a-la-maison-du-protestantisme/
LOCATION:Carré protestant – Maison du protestantisme\, 3\, rue Claude Brousson\, Nîmes\, 30000\, France
CATEGORIES:Cultes
ATTACH;FMTTYPE=image/png:https://nimes-eglise-protestante-unie.fr/wp-content/uploads/2020/09/Capture-décran-2020-09-22-à-12.26.11.png
END:VEVENT
BEGIN:VEVENT
DTSTART;TZID=Europe/Paris:20250112T103000
DTEND;TZID=Europe/Paris:20250112T113000
DTSTAMP:20260422T010546
CREATED:20250114T145031Z
LAST-MODIFIED:20250114T145031Z
UID:20453-1736677800-1736681400@nimes-eglise-protestante-unie.fr
SUMMARY:Culte au temple de la Fraternité
DESCRIPTION:Culte célébré par la pasteure Iris Reuter.
URL:https://nimes-eglise-protestante-unie.fr/event/culte-au-temple-de-la-fraternite-3/
LOCATION:Temple de la Fraternité\, 7\, rue Antoine Delon\, Nîmes\, 30000\, France
CATEGORIES:Cultes
ATTACH;FMTTYPE=image/jpeg:https://nimes-eglise-protestante-unie.fr/wp-content/uploads/2024/11/la-Frata-tous.jpg
END:VEVENT
BEGIN:VEVENT
DTSTART;TZID=Europe/Paris:20250112T103000
DTEND;TZID=Europe/Paris:20250112T113000
DTSTAMP:20260422T010546
CREATED:20250114T144538Z
LAST-MODIFIED:20250114T144711Z
UID:20450-1736677800-1736681400@nimes-eglise-protestante-unie.fr
SUMMARY:Culte à l'Oratoire
DESCRIPTION:Le culte sera célébré par la pasteure Claire des Mesnards.
URL:https://nimes-eglise-protestante-unie.fr/event/culte-a-loratoire/
LOCATION:Temple de l’Oratoire\, 2 place de l'Oratoire\, Nîmes\, 30900\, France
CATEGORIES:Cultes
ATTACH;FMTTYPE=image/jpeg:https://nimes-eglise-protestante-unie.fr/wp-content/uploads/2024/09/ORATOIRE-extra-16-9.jpg
END:VEVENT
BEGIN:VEVENT
DTSTART;TZID=Europe/Paris:20250111T180000
DTEND;TZID=Europe/Paris:20250111T190000
DTSTAMP:20260422T010546
CREATED:20250114T144010Z
LAST-MODIFIED:20250114T144010Z
UID:20448-1736618400-1736622000@nimes-eglise-protestante-unie.fr
SUMMARY:Culte au Mas des Abeilles
DESCRIPTION:Le culte sera célébré par la pasteure Titia Es-Sbanti.
URL:https://nimes-eglise-protestante-unie.fr/event/culte-au-mas-des-abeilles-2/
CATEGORIES:Cultes
ATTACH;FMTTYPE=image/jpeg:https://nimes-eglise-protestante-unie.fr/wp-content/uploads/2024/03/MdA-automne.jpg
END:VEVENT
BEGIN:VEVENT
DTSTART;TZID=Europe/Paris:20250105T103000
DTEND;TZID=Europe/Paris:20250105T113000
DTSTAMP:20260422T010546
CREATED:20250114T143751Z
LAST-MODIFIED:20250114T143751Z
UID:20444-1736073000-1736076600@nimes-eglise-protestante-unie.fr
SUMMARY:Culte au Grand Temple
DESCRIPTION:Le culte sera célébré par le pasteur Lionel Tambon.
URL:https://nimes-eglise-protestante-unie.fr/event/culte-au-grand-temple-3/
LOCATION:Grand Temple\, 1 place du Grand Temple\, Nîmes\, 30000\, France
CATEGORIES:Cultes
ATTACH;FMTTYPE=image/png:https://nimes-eglise-protestante-unie.fr/wp-content/uploads/2021/02/Grand-Temple-3.png
END:VEVENT
BEGIN:VEVENT
DTSTART;TZID=Europe/Paris:20250104T180000
DTEND;TZID=Europe/Paris:20250104T190000
DTSTAMP:20260422T010546
CREATED:20250114T143245Z
LAST-MODIFIED:20250114T143245Z
UID:20442-1736013600-1736017200@nimes-eglise-protestante-unie.fr
SUMMARY:Culte au Mas des Abeilles
DESCRIPTION:Culte célébré par le pasteur Redouane Es-Sbanti.
URL:https://nimes-eglise-protestante-unie.fr/event/culte-au-mas-des-abeilles/
LOCATION:Temple du Mas des abeilles\, 2135 chemin du Bachas\, Nîmes\, 30000\, France
CATEGORIES:Cultes
ATTACH;FMTTYPE=image/jpeg:https://nimes-eglise-protestante-unie.fr/wp-content/uploads/2024/03/MdA-automne.jpg
END:VEVENT
BEGIN:VEVENT
DTSTART;TZID=Europe/Paris:20241225T103000
DTEND;TZID=Europe/Paris:20241225T113000
DTSTAMP:20260422T010546
CREATED:20241113T130653Z
LAST-MODIFIED:20241113T175544Z
UID:20081-1735122600-1735126200@nimes-eglise-protestante-unie.fr
SUMMARY:Culte de Noël au Grand Temple
DESCRIPTION:Culte célébré par le pasteur Christophe Amédro.
URL:https://nimes-eglise-protestante-unie.fr/event/culte-de-noel-au-grand-temple/
LOCATION:Grand Temple\, 1 place du Grand Temple\, Nîmes\, 30000\, France
CATEGORIES:Cultes spéciaux,Spiritualité
ATTACH;FMTTYPE=image/jpeg:https://nimes-eglise-protestante-unie.fr/wp-content/uploads/2024/11/nativity-scene-522516_1280.jpg
END:VEVENT
BEGIN:VEVENT
DTSTART;TZID=Europe/Paris:20241225T103000
DTEND;TZID=Europe/Paris:20241225T113000
DTSTAMP:20260422T010546
CREATED:20241113T125926Z
LAST-MODIFIED:20241212T112629Z
UID:20074-1735122600-1735126200@nimes-eglise-protestante-unie.fr
SUMMARY:Culte de Noël au temple de Saint-Césaire
DESCRIPTION:Culte célébré par la pasteure Titia Es-Sbanti.
URL:https://nimes-eglise-protestante-unie.fr/event/culte-de-noel/
LOCATION:Temple de Saint-Césaire\, 248 rue du temple\, Nîmes\, 30900\, France
CATEGORIES:Cultes spéciaux,Spiritualité
ATTACH;FMTTYPE=image/png:https://nimes-eglise-protestante-unie.fr/wp-content/uploads/2024/11/mini-creche.png
END:VEVENT
BEGIN:VEVENT
DTSTART;TZID=Europe/Paris:20241224T190000
DTEND;TZID=Europe/Paris:20241224T200000
DTSTAMP:20260422T010546
CREATED:20241113T111907Z
LAST-MODIFIED:20241205T155155Z
UID:20068-1735066800-1735070400@nimes-eglise-protestante-unie.fr
SUMMARY:Veillée de Noël au temple de la Fraternité
DESCRIPTION:Veillée conduite par la pasteure Iris Reuter.
URL:https://nimes-eglise-protestante-unie.fr/event/veillee-de-noel-au-temple-de-la-fraternite/
LOCATION:Temple de la Fraternité\, 7\, rue Antoine Delon\, Nîmes\, 30000\, France
CATEGORIES:Cultes spéciaux,Spiritualité
ATTACH;FMTTYPE=image/jpeg:https://nimes-eglise-protestante-unie.fr/wp-content/uploads/2024/11/christmas-4708708_1280.jpg
END:VEVENT
BEGIN:VEVENT
DTSTART;TZID=Europe/Paris:20241224T190000
DTEND;TZID=Europe/Paris:20241224T200000
DTSTAMP:20260422T010546
CREATED:20241113T111525Z
LAST-MODIFIED:20241113T175505Z
UID:20065-1735066800-1735070400@nimes-eglise-protestante-unie.fr
SUMMARY:Veillée de Noël au temple de l'Oratoire
DESCRIPTION:Veillée de Noël conduite par la pasteure Claire des Mesnards.
URL:https://nimes-eglise-protestante-unie.fr/event/veillee-de-noel-au-temple-de-loratoire/
LOCATION:Temple de l’Oratoire\, 2 place de l'Oratoire\, Nîmes\, 30900\, France
CATEGORIES:Cultes spéciaux,Spiritualité
ATTACH;FMTTYPE=image/jpeg:https://nimes-eglise-protestante-unie.fr/wp-content/uploads/2024/11/christmas-2874137_1280.jpg
END:VEVENT
BEGIN:VEVENT
DTSTART;TZID=Europe/Paris:20241214T170000
DTEND;TZID=Europe/Paris:20241214T180000
DTSTAMP:20260422T010546
CREATED:20241213T140331Z
LAST-MODIFIED:20241213T140331Z
UID:20326-1734195600-1734199200@nimes-eglise-protestante-unie.fr
SUMMARY:"Dieu s'approche" - Culte avec saynète interprétée par les jeunes du secteur centre-ville
DESCRIPTION:Ce soir\, un conseil est convoqué en haut lieu : que faire pour que les êtres humains comprennent enfin que Dieu les aime ? \nIl faudrait un événement important\, quelque chose qui remue ciel et terre ! Quelque chose de simple et de doux\, quelque chose qui soit proche de nous…
URL:https://nimes-eglise-protestante-unie.fr/event/dieu-sapproche-culte-avec-saynete-interpretee-par-les-jeunes-du-secteur-centre-ville/
LOCATION:Temple de l’Oratoire\, 2 place de l'Oratoire\, Nîmes\, 30900\, France
CATEGORIES:Cultes,Spiritualité
ATTACH;FMTTYPE=image/jpeg:https://nimes-eglise-protestante-unie.fr/wp-content/uploads/2023/01/image1.jpeg
END:VEVENT
BEGIN:VEVENT
DTSTART;TZID=Europe/Paris:20241201T103000
DTEND;TZID=Europe/Paris:20241201T113000
DTSTAMP:20260422T010546
CREATED:20241113T150956Z
LAST-MODIFIED:20241113T175211Z
UID:20112-1733049000-1733052600@nimes-eglise-protestante-unie.fr
SUMMARY:Culte au Grand Temple
DESCRIPTION:Culte célébré par la pasteure Claire des Mesnards.
URL:https://nimes-eglise-protestante-unie.fr/event/culte-au-grand-temple-2/
CATEGORIES:Cultes,Spiritualité
ATTACH;FMTTYPE=image/png:https://nimes-eglise-protestante-unie.fr/wp-content/uploads/2021/02/Grand-Temple-3.png
END:VEVENT
BEGIN:VEVENT
DTSTART;TZID=Europe/Paris:20241201T103000
DTEND;TZID=Europe/Paris:20241201T113000
DTSTAMP:20260422T010546
CREATED:20241113T150727Z
LAST-MODIFIED:20241113T175148Z
UID:20110-1733049000-1733052600@nimes-eglise-protestante-unie.fr
SUMMARY:Culte au temple de la Fraternité
DESCRIPTION:Culte célébré par la pasteure Iris Reuter.
URL:https://nimes-eglise-protestante-unie.fr/event/culte-au-temple-de-la-fraternite-2/
LOCATION:Temple de la Fraternité\, 7\, rue Antoine Delon\, Nîmes\, 30000\, France
CATEGORIES:Cultes,Solidarité
ATTACH;FMTTYPE=image/jpeg:https://nimes-eglise-protestante-unie.fr/wp-content/uploads/2024/11/la-Frata-tous.jpg
END:VEVENT
BEGIN:VEVENT
DTSTART;TZID=Europe/Paris:20241130T180000
DTEND;TZID=Europe/Paris:20241130T193000
DTSTAMP:20260422T010546
CREATED:20241113T150003Z
LAST-MODIFIED:20241129T144630Z
UID:20106-1732989600-1732995000@nimes-eglise-protestante-unie.fr
SUMMARY:Culte au temple du Mas des abeilles
DESCRIPTION:Culte célébré par la pasteure Titia Es-Sbanti.
URL:https://nimes-eglise-protestante-unie.fr/event/culte-au-temple-du-mas-des-abeilles-2/
LOCATION:Temple du Mas des abeilles\, 2135 chemin du Bachas\, Nîmes\, 30000\, France
CATEGORIES:Cultes,Spiritualité
ATTACH;FMTTYPE=image/jpeg:https://nimes-eglise-protestante-unie.fr/wp-content/uploads/2024/11/MdA-automne-16-9.jpg
END:VEVENT
BEGIN:VEVENT
DTSTART;TZID=Europe/Paris:20241124T103000
DTEND;TZID=Europe/Paris:20241124T110000
DTSTAMP:20260422T010546
CREATED:20241113T144447Z
LAST-MODIFIED:20241113T175135Z
UID:20104-1732444200-1732446000@nimes-eglise-protestante-unie.fr
SUMMARY:Culte de la Cité
DESCRIPTION:Culte célébré par le pasteur Christophe Singer.
URL:https://nimes-eglise-protestante-unie.fr/event/culte-de-la-cite/
LOCATION:Temple de l’Oratoire\, 2 place de l'Oratoire\, Nîmes\, 30900\, France
CATEGORIES:Cultes,Cultes spéciaux,Spiritualité
ATTACH;FMTTYPE=image/jpeg:https://nimes-eglise-protestante-unie.fr/wp-content/uploads/2024/03/image.jpg
END:VEVENT
BEGIN:VEVENT
DTSTART;TZID=Europe/Paris:20241117T103000
DTEND;TZID=Europe/Paris:20241117T113000
DTSTAMP:20260422T010546
CREATED:20241113T150513Z
LAST-MODIFIED:20241113T175119Z
UID:20108-1731839400-1731843000@nimes-eglise-protestante-unie.fr
SUMMARY:Culte au temple de la Fraternité
DESCRIPTION:Culte célébré par la pasteure Iris Reuter.
URL:https://nimes-eglise-protestante-unie.fr/event/culte-au-temple-de-la-fraternite/
CATEGORIES:Cultes,Spiritualité
ATTACH;FMTTYPE=image/jpeg:https://nimes-eglise-protestante-unie.fr/wp-content/uploads/2024/11/la-Frata-tous.jpg
END:VEVENT
BEGIN:VEVENT
DTSTART;TZID=Europe/Paris:20241117T103000
DTEND;TZID=Europe/Paris:20241117T113000
DTSTAMP:20260422T010546
CREATED:20241113T141624Z
LAST-MODIFIED:20241113T175039Z
UID:20101-1731839400-1731843000@nimes-eglise-protestante-unie.fr
SUMMARY:Culte au Grand Temple
DESCRIPTION:Culte célébré par le pasteur Michel Jas.
URL:https://nimes-eglise-protestante-unie.fr/event/culte-au-grand-temple/
LOCATION:Grand Temple\, 1 place du Grand Temple\, Nîmes\, 30000\, France
CATEGORIES:Cultes,Spiritualité
ATTACH;FMTTYPE=image/png:https://nimes-eglise-protestante-unie.fr/wp-content/uploads/2021/02/Grand-Temple-3.png
END:VEVENT
BEGIN:VEVENT
DTSTART;TZID=Europe/Paris:20241116T180000
DTEND;TZID=Europe/Paris:20241116T190000
DTSTAMP:20260422T010546
CREATED:20241113T141326Z
LAST-MODIFIED:20241113T174931Z
UID:20099-1731780000-1731783600@nimes-eglise-protestante-unie.fr
SUMMARY:Culte au temple du Mas des abeilles
DESCRIPTION:Culte célébré par le pasteur Michel Jas.
URL:https://nimes-eglise-protestante-unie.fr/event/culte-au-temple-du-mas-des-abeilles/
LOCATION:Temple du Mas des abeilles\, 2135 chemin du Bachas\, Nîmes\, 30000\, France
CATEGORIES:Cultes,Spiritualité
ATTACH;FMTTYPE=image/jpeg:https://nimes-eglise-protestante-unie.fr/wp-content/uploads/2024/11/MdA-automne-16-9.jpg
END:VEVENT
BEGIN:VEVENT
DTSTART;TZID=Europe/Paris:20240929T103000
DTEND;TZID=Europe/Paris:20240929T140000
DTSTAMP:20260422T010546
CREATED:20240922T065839Z
LAST-MODIFIED:20240922T103752Z
UID:19597-1727605800-1727618400@nimes-eglise-protestante-unie.fr
SUMMARY:Culte de rentrée
DESCRIPTION:Une rentrée qui ne manque pas de sel !\n \n  \nL’Église Protestante Unie de Nîmes vous invite à son culte de Rentrée dimanche 29 septembre à 10h30 au temple de l’Oratoire\, réunissant ses trois secteurs : Centre ville\, Fraternité et Mas des abeilles-St Césaire et ses aumôneries. \nTROIS temps forts marqueront ce culte : \n\nInstallation de son Conseil presbytéral nouvellement élu\,\nAccueil de notre nouveau groupe musical MELONIMES\nPrésentation de la petite Esther\, fille d’Edouard et Ana CLERC.\n\nUN mot peut résumer ce dimanche : RECONNAISSANCE \nA l’issue de ce culte\, nous nous retrouverons à la Gazelle (453 rue Ambroise Croizat)\, où la table sera dressée pour un repas partagé. L’apéritif et le café vous seront offerts ; nous comptons sur chacun pour apporter son couvert ainsi qu’un plat salé ou sucré à partager ! \nAdresse du culte à 10h30 : temple de l’Oratoire\, Place de l’Oratoire (quartier : la Placette) \nAdresse du repas de midi : 453 rue Ambroise Croizat (quartier la Gazelle). Covoiturage possible. \n 
URL:https://nimes-eglise-protestante-unie.fr/event/culte-de-rentree/
LOCATION:Temple de l’Oratoire\, 2 place de l'Oratoire\, Nîmes\, 30900\, France
CATEGORIES:Convivialité,Cultes spéciaux,Spiritualité
ATTACH;FMTTYPE=image/jpeg:https://nimes-eglise-protestante-unie.fr/wp-content/uploads/2024/09/ORATOIRE-extra-16-9-petit-85.jpg
END:VEVENT
END:VCALENDAR