BEGIN:VCALENDAR
VERSION:2.0
PRODID:-//Eglise Protestante Unie de Nîmes - ECPv6.4.0.1//NONSGML v1.0//EN
CALSCALE:GREGORIAN
METHOD:PUBLISH
X-WR-CALNAME:Eglise Protestante Unie de Nîmes
X-ORIGINAL-URL:https://nimes-eglise-protestante-unie.fr
X-WR-CALDESC:évènements pour Eglise Protestante Unie de Nîmes
REFRESH-INTERVAL;VALUE=DURATION:PT1H
X-Robots-Tag:noindex
X-PUBLISHED-TTL:PT1H
BEGIN:VTIMEZONE
TZID:Europe/Paris
BEGIN:DAYLIGHT
TZOFFSETFROM:+0100
TZOFFSETTO:+0200
TZNAME:CEST
DTSTART:20250330T010000
END:DAYLIGHT
BEGIN:STANDARD
TZOFFSETFROM:+0200
TZOFFSETTO:+0100
TZNAME:CET
DTSTART:20251026T010000
END:STANDARD
END:VTIMEZONE
BEGIN:VEVENT
DTSTART;TZID=Europe/Paris:20250420T103000
DTEND;TZID=Europe/Paris:20250420T113000
DTSTAMP:20260419T150634
CREATED:20250416T134327Z
LAST-MODIFIED:20250416T144046Z
UID:21178-1745145000-1745148600@nimes-eglise-protestante-unie.fr
SUMMARY:Culte de Pâques au temple de Saint-Césaire
DESCRIPTION:Culte avec Sainte-Cène célébré par la pasteure Titia Est-Sbanti.
URL:https://nimes-eglise-protestante-unie.fr/event/culte-de-paques-au-temple-de-saint-cesaire/
LOCATION:Temple de Saint-Césaire\, 248 rue du temple\, Nîmes\, 30900\, France
CATEGORIES:Cultes,Cultes spéciaux
ATTACH;FMTTYPE=image/jpeg:https://nimes-eglise-protestante-unie.fr/wp-content/uploads/2025/04/easter-7003335_640.jpg
END:VEVENT
BEGIN:VEVENT
DTSTART;TZID=Europe/Paris:20250420T103000
DTEND;TZID=Europe/Paris:20250420T113000
DTSTAMP:20260419T150634
CREATED:20250416T134511Z
LAST-MODIFIED:20250416T144053Z
UID:21186-1745145000-1745148600@nimes-eglise-protestante-unie.fr
SUMMARY:Culte de Pâques au temple de la Fraternité
DESCRIPTION:Culte avec Sainte-Cène célébré par la pasteure Iris Reuter.
URL:https://nimes-eglise-protestante-unie.fr/event/culte-de-paques-au-temple-de-la-fraternite/
LOCATION:Temple de la Fraternité\, 7\, rue Antoine Delon\, Nîmes\, 30000\, France
CATEGORIES:Cultes,Cultes spéciaux
ATTACH;FMTTYPE=image/jpeg:https://nimes-eglise-protestante-unie.fr/wp-content/uploads/2025/04/passion-3111303_640.jpg
END:VEVENT
BEGIN:VEVENT
DTSTART;TZID=Europe/Paris:20250420T103000
DTEND;TZID=Europe/Paris:20250420T113000
DTSTAMP:20260419T150634
CREATED:20250416T134637Z
LAST-MODIFIED:20250416T144058Z
UID:21187-1745145000-1745148600@nimes-eglise-protestante-unie.fr
SUMMARY:Culte de Pâques au Grand Temple
DESCRIPTION:Culte avec Sainte-Cène célébré par la pasteure Claire des Mesnards.
URL:https://nimes-eglise-protestante-unie.fr/event/culte-de-paques-au-grand-temple/
LOCATION:Grand Temple\, 1 place du Grand Temple\, Nîmes\, 30000\, France
CATEGORIES:Cultes,Cultes spéciaux
ATTACH;FMTTYPE=image/jpeg:https://nimes-eglise-protestante-unie.fr/wp-content/uploads/2025/04/passion-3111247_640.jpg
END:VEVENT
END:VCALENDAR